BEGIN:VCALENDAR
VERSION:2.0
PRODID:-//MTG/SC - Movimento Tradicionalista Gaúcho do Estado de Santa Catarina - ECPv6.15.20//NONSGML v1.0//EN
CALSCALE:GREGORIAN
METHOD:PUBLISH
X-WR-CALNAME:MTG/SC - Movimento Tradicionalista Gaúcho do Estado de Santa Catarina
X-ORIGINAL-URL:https://www.mtgsc.com.br
X-WR-CALDESC:Eventos para MTG/SC - Movimento Tradicionalista Gaúcho do Estado de Santa Catarina
REFRESH-INTERVAL;VALUE=DURATION:PT1H
X-Robots-Tag:noindex
X-PUBLISHED-TTL:PT1H
BEGIN:VTIMEZONE
TZID:America/Sao_Paulo
BEGIN:STANDARD
TZOFFSETFROM:-0300
TZOFFSETTO:-0300
TZNAME:-03
DTSTART:20250101T000000
END:STANDARD
END:VTIMEZONE
BEGIN:VEVENT
DTSTART;TZID=America/Sao_Paulo:20260404T220000
DTEND;TZID=America/Sao_Paulo:20260405T000000
DTSTAMP:20260425T132208
CREATED:20260305T125158Z
LAST-MODIFIED:20260305T125158Z
UID:11499-1775340000-1775347200@www.mtgsc.com.br
SUMMARY:Baile do Bolo Frito
DESCRIPTION:O CTG Minuano Catarinense promoverá no dia 04.04.2026 o 1°Baile do Bolo Frito\, um baile a moda antiga\, sob luz de lampião que visa resgatar os costumes antigos\, e procura promover o encontro de grupos de peões e prendas que apresentam suas danças tradicionais\, juntamente com concurso de sapucai\, chula\, melhor traje de peão e prenda\, entre outras atrações. O Baile terá início as 22hs com Ricardo Bergha\, seguindo com o Baile a moda antiga com o Projeto Rincão. As primeiras 150 pessoas que chegarem ao baile ganharão um vale pinga\, com copo personalizado do evento\, Haverá quirera com feijão e na madrugada será servido um delicioso café com bolo frito!! Esperamos vocês para este baita evento!
URL:https://www.mtgsc.com.br/evento/baile-do-bolo-frito/
LOCATION:CTG MINUANO CATARINENSE – SÃO JOAQUIM/ SC
CATEGORIES:2ª RT,Artísticos,Culturais,MTG SC
ATTACH;FMTTYPE=image/jpeg:https://www.mtgsc.com.br/wp-content/uploads/2026/03/19e87b0c66f14ba6bd7f2b92ae7825c7.jpg
END:VEVENT
END:VCALENDAR